BEGIN:VCALENDAR
VERSION:2.0
PRODID:-//eventon.com NONSGML v1.0//EN
CALSCALE:GREGORIAN
METHOD:PUBLISH
BEGIN:VEVENT
UID:69ed8ac6536ec
DTSTAMP:20260426T034718Z
DTSTART:20140813T183000Z
DTEND:20140813T010000Z
LOCATION:SF County Fair Building 1199 9th Avenue\,  San Francisco CA 94122
SUMMARY:Inner Sunset Town Hall
DESCRIPTION:The Inner Sunset quarterly Town Hall is organized by Inner Suns
 et Park Neighbors and are open toÂ membersÂ and non-members. Â  This monthÂ
  Craig Dawson of Sutro StewardsÂ and SF Park Alliance&#8217;s volunteer of 
 the year\,  will give us an overview of the Mt Sutro area and the challenge
 s to maintain the space. Â [..]\nhttps://www.inner-sunset.org/events/inner-
 sunset-town-hall/
URL:https://www.inner-sunset.org/events/inner-sunset-town-hall/
END:VEVENT
END:VCALENDAR